Workbook
Name _ftn1: zdroj!$M$40
Name _ftn2: zdroj!$D$60
Name _ftnref1: zdroj!$M$37
Name _Hlk72786702: zdroj!$D$33
Name _Toc70076319: zdroj!$M$3
Name _Toc70076332: zdroj!$D$35
Name _Toc88238339: zdroj!$D$2
Name _Toc99112534: zdroj!$M$12
Name _Toc99112553: zdroj!$M$29
Name Opatreni: zdroj!$M$36:$M$47,zdroj!$M$25:$M$35,zdroj!$M$20:$M$24,zdroj!$M$10:$M$12,zdroj!$M$2:$M$9
Name Opatreni_2: #REF!,#REF!,#REF!,#REF!,#REF!
Name porno: #REF!,#REF!,#REF!,#REF!,#REF!

Sheet KR
B2: Kumulativní rozpočet projektu
C3: Editujte lze pouze zelená pole nebo použijte výběrová tlačítka | D3: Důležité informace jsou označeny v komentáři u daných buněk.
B5: Název žadatele:
B6: Název projektu:
B8: Specifický cíl: | H8: Maximální míra dotace: | J8: míra podpory/bonifikace
B9: Opatření specifického cíle: | H9: Kategorie dle D.6.8.3 Pržap | I9: vyber | J9: =CHOOSE(zdroj!C85,zdroj!E85,zdroj!E86,zdroj!E87,zdroj!E88) -> 0
B10: Aktivita (je-li relevantní): | H10: Priorita ekologické zátěže | I10: vyber | J10: =CHOOSE(zdroj!C90,zdroj!E90,zdroj!E91,zdroj!E92,zdroj!E93) -> 0
B11: Podaktivita (je-li relevantní) | H11: Koeficient obce | J11: =I11/100 -> 0
B12: Veřejná podpora:
B13: DPH uznatelnost: | H13: Finální max. míra podpory | J13: =IF(zdroj!C85=1,"0",IF(zdroj!C85=2,0.85,IF(zdroj!C85=3,zdroj!E87+KR!J10+KR!J11,IF(zdroj!C85=4,zdroj!E88+KR!J10+KR!J11)))) -> 0
B14: Velikost podniku:
B16: Souhrnný rozpočet
D17: Náklady bez DPH | E17: DPH [%] | F17: Náklady s DPH | G17: Nezpůsobilá část z celkových nákladů stanovená žadatelem (bez DPH) | H17: Nezpůsobilá část celkem | I17: Způsobilé náklady po zohlednění limitů způsobilých nákladů a způsobilosti DPH
B18: Realizace | C18: Stavební objekty/Provozní soubory atd. | E18: 21 | F18: =D18*(1+(E18/100)) -> 0 | H18: =CHOOSE(zdroj!$P$26,G18*(1+(KR!E18/100)),D18*(E18/100)+G18,G18*(1+(KR!E18/100)),"vyber uznatelnost DPH") -> vyber uznatelnost DPH | I18: =IFERROR(F18-H18,"zadej výdaje/uznatelnost DPH") -> zadej výdaje/uznatelnost DPH
C19: Rezerva | E19: 21 | F19: =D19*(1+(E19/100)) -> 0 | G19: 0 | H19: =IFERROR(F19-I19,"vyber uznatelnost DPH") -> vyber uznatelnost DPH | I19: =IFERROR(IF((F19-CHOOSE(zdroj!$P$26,G19*(1+(KR!E19/100)),D19*(E19/100)+G19,G19*(1+(KR!E19/100))))>(0.2*I18),(0.2*I18),(F19-CHOOSE(zdroj!$P$26,G19*(1+(KR!E19/100)),D19*(E19/100)+G19,G19*(1+(KR!E19/100))))),"zadej výdaje/uznatelnost DPH") -> zadej výdaje/uznatelnost DPH
C20: Nákup pozemku | D20: 0 | E20: 21 | F20: =D20*(1+(E20/100)) -> 0 | G20: 0 | H20: =CHOOSE(zdroj!$P$26,G20*(1+(KR!E20/100)),D20*(E20/100)+G20,G20*(1+(KR!E20/100)),"vyber uznatelnost DPH") -> vyber uznatelnost DPH | I20: =IFERROR(F20-H20,"zadej výdaje/uznatelnost DPH") -> zadej výdaje/uznatelnost DPH
C21: vývoj/koncepce vzdělávacích programů pro poskytování klimatického vzdělávání | D21: 0 | E21: 21 | F21: =D21*(1+(E21/100)) -> 0 | G21: 0 | H21: =CHOOSE(zdroj!$P$26,G21*(1+(KR!E21/100)),D21*(E21/100)+G21,G21*(1+(KR!E21/100)),"vyber uznatelnost DPH") -> vyber uznatelnost DPH | I21: =IFERROR(F21-H21,"zadej výdaje/uznatelnost DPH") -> zadej výdaje/uznatelnost DPH
C22: Celkem | D22: =SUM(D18:D21) -> 0 | F22: =SUM(F18:F21) -> 0 | H22: =SUM(H18:H21) -> 0 | I22: =IFERROR(I18+I19+I20+I21,"zadej výdaje/uznatelnost DPH") -> zadej výdaje/uznatelnost DPH | J22: = Celk. zp. náklady (realizace)
I23: =IFERROR(I18+I20+I19,"zadej výdaje/uznatelnost DPH") -> zadej výdaje/uznatelnost DPH | J23: = Celk. zp. přímé realizační výdaje
I24: =IFERROR(I23*zdroj!P30,0) -> 0 | J24: moje ctrl - vymazat
I25: =CHOOSE(zdroj!P26,KR!I26,KR!I26,I26,0) -> 0
B26: Paušální sazba | C26: Nepřímé náklady dle Pržap - Příloha č. 3, část III. | D26: Maximální výše způsobilých nepřímých nákladů se automaticky dopočítává dle výše celkových způsobilých přímých realizačních výdajů a uznatelnosti DPH | I26: =IF(OR(J26<=15000000,J26="zadej výdaje/uznatelnost DPH"),J26,15000000) -> zadej výdaje/uznatelnost DPH | J26: =IFERROR(IF(OR(zdroj!P2=1,zdroj!P2=2,zdroj!P2=3,zdroj!P2=4,zdroj!P2=5,zdroj!P2=11,zdroj!P2=15,zdroj!P2=18,zdroj!P2=19),zdroj!P32*KR!I23,0),"zadej výdaje/uznatelnost DPH") -> zadej výdaje/uznatelnost DPH
B27: Paušální sazba | C27: Nepřímé náklady dle Pržap - Příloha č. 3, část III. | E27: 21 | F27: =D27*(1+(E27/100)) -> 0 | G27: 0 | H27: =CHOOSE(zdroj!$P$26,IF(zdroj!P40>zdroj!P41,zdroj!P40-zdroj!P41+(G27*(1+(E27/100))),G27*(1+(KR!E27/100))),IF(zdroj!P40>zdroj!P41,zdroj!P40-zdroj!P41+D27*(E27/100)+G27,D27*(KR!E27/100)+G27),IF(zdroj!P40>zdroj!P41,zdroj!P40-zdroj!P41+G27*(1+(E27/100)),G27*(1+(KR!E27/100))),"vyber plátce DPH") -> vyber plátce DPH | I27: =IFERROR(IF(zdroj!P40>zdroj!P41,zdroj!P41,F27-H27),"zadej výdaje/uznatelnost DPH") -> zadej výdaje/uznatelnost DPH
D28: =CHOOSE(zdroj!P2,0,0,0,0,0,KR!D27,KR!D27,KR!D27,KR!D27,KR!D27,0,KR!D27,KR!D27,KR!D27,0,KR!D27,KR!D27,0,0,KR!D27) -> 0 | F28: =(D28)*(1+(E27/100)) -> 0 | H28: =CHOOSE(zdroj!P2,0,0,0,0,0,KR!H27,KR!H27,KR!H27,KR!H27,KR!H27,KR!H27,KR!H27,KR!H27,KR!H27,0,KR!H27,KR!H27,0,0,KR!H27) -> 0 | I28: =CHOOSE(zdroj!P2,0,0,0,0,0,KR!I27,KR!I27,KR!I27,KR!I27,KR!I27,0,KR!I27,KR!I27,KR!I27,0,KR!I27,KR!I27,0,0,KR!I27) -> 0
B29: =IF(D29="zadej výdaje/DPH",0,D29) -> 0 | C29: Celkové náklady projektu | D29: =IFERROR(IF(ROUND(F22+I25+F28,0)=0,"zadej výdaje/DPH",ROUND(F22+I25+F28,0)),"zadej výdaje/DPH") -> zadej výdaje/DPH
C30: Celkové způsobilé výdaje projektu | D30: =IFERROR(IF(ROUND(I22+I26+I28,0)=0,"zadej výdaje/DPH",ROUND(I22+I26+I28,0)),"zadej výdaje/DPH") -> zadej výdaje/DPH | G30: Komentář ke stanoveným nezpůsobilým nákladům:
C31: Celkové nezpůsobilé výdaje projektu | D31: =IFERROR(ROUND(D29-D30,0),"zadej výdaje/DPH") -> zadej výdaje/DPH | G31: zde vepište případný komentář k nezpůsobilým výdajům
C36: Zpracoval | D36: ……………………………….. | E36: =TODAY() -> 45673
C40: Výstup z Kumulativního rozpočtu do rozpočtu v ISKP21+
C41: Tuto částku přepište dle investice a neinvestice do řádků 1.1.1.1 a 1.1.1.2 rozpočtu projektu v ISKP21+. | F41: =IF(J26="zadej výdaje/uznatelnost DPH","zadej výdaje/DPH",IF(OR(zdroj!P2=1,zdroj!P2=2,zdroj!P2=3,zdroj!P2=4,zdroj!P2=5,zdroj!P2=15,zdroj!P2=18,zdroj!P2=19),IF(KR!J26>15000000,428571425.5,I22),0)) -> zadej výdaje/DPH
C42: Tuto částku přepište dle investice a neinvestice do řádků 1.1.3 a 1.1.4 rozpočtu projektu v ISKP21+. | F42: =IF(J26="zadej výdaje/uznatelnost DPH","zadej výdaje/DPH",IF(OR(zdroj!P2=1,zdroj!P2=2,zdroj!P2=3,zdroj!P2=4,zdroj!P2=5,zdroj!P2=15,zdroj!P2=18,zdroj!P2=19),IF(KR!J26>15000000,(KR!I22-428571425.5),0),KR!D30)) -> zadej výdaje/DPH
C43: Tuto částku přepište dle investice a neinvestice do řádků 1.2.5 a 1.2.6 rozpočtu projektu v ISKP21+. | F43: =D31 -> zadej výdaje/DPH
C44: Rozdělení nákladů na investiční a neinvestiční zadá do ISKP21+ žadatel v souladu s účetními předpisy.
C45: Výše uvedené částky musí bez výhrady odpovídat příslušným řádkům v ISKP21+.
C50: Opatření - vyberte všechna další Opatření na projektu
B51: hlavní Opatření dle KR | C51: =CHOOSE(zdroj!C10,zdroj!D10,zdroj!D11,zdroj!D12,zdroj!D13,zdroj!D14,zdroj!D15,zdroj!D16,zdroj!D17,zdroj!D18,zdroj!D19,zdroj!D20) -> 1.6.8 Odstranění rizik kontaminace ohrožující lidské zdraví, vodní zdroje nebo ekosystémy a rekultivace starých skládek
C52: vyber Opatření #2 | F52: =IF(C51=C52,"Duplicita Opatření","")
C53: vyber Opatření #3 | F53: =IF(OR(C51=C53,C52=C53),"Duplicita Opatření","")
C54: vyber Opatření #4 | F54: =IF(OR(C54=C53,C54=C52,C54=C51),"Duplicita Opatření","")
C55: vyber Opatření #5 | F55: =IF(OR(C53=C55,C55=C54,C55=C52,C55=C51),"Duplicita Opatření","")
...

Sheet zdroj
A1: =OR(C10=2,C10=3,C10=5,C10=6,C10=11) -> FALSE | C1: 7 | D1: Vyber Specifický cíl | L1: =CHOOSE($C$1,1,0,0,0,0,0,0) -> 0 | M1: Vyber nejprve Specifický cíl a poté hlavní Opatření projektu | N1: 1_1 | R1: paušál PP
A2: =AND(A1=TRUE,C1=6) -> FALSE | C2: 2 | D2: 1.1 Podpora energetické účinnosti a snižování emisí skleníkových plynů | L2: 1 | M2: 1.1.1 Snížení energetické náročnosti veřejných budov a veřejné infrastruktury | N2: 2_1 | O2: =IF(OR(AND(P2>5,P2<11),P2=12,P2=13,P2=14,P2=16,P2=17,P2=20),1,0) -> 0 | P2: 1 | Q2: mimo Veřejnou podporu | R2: 1
D3: 1.2 Podpora energie z obnovitelných zdrojů v souladu se směrnicí (EU) 2018/2001, včetně kritérií udržitelnosti stanovených v uvedené směrnici | L3: 2 | M3: 1.1.2 Snížení energetické náročnosti/zvýšení účinnosti technologických procesů | N3: 2_2 | Q3: de minimis 360/2012 | R3: 2
D4: 1.3 Podpora přizpůsobení se změně klimatu, prevence rizika katastrof a odolnosti vůči nim s přihlédnutím k ekosystémovým přístupům | L4: 3 | M4: 1.1.3 Zlepšení kvality vnitřního prostředí veřejných budov | N4: 2_3 | Q4: de minimis 1407/2013 | R4: 3
D5: 1.4 Podpora přístupu k vodě a udržitelného hospodaření s vodou | L5: 4 | M5: 1.1.4 Zvýšení adaptability veřejných budov na změnu klimatu | N5: 2_4 | Q5: de minimis 1408/2013 | R5: 4
D6: 1.5 Podpora přechodu na oběhové hospodářství účinně využívající zdroje | L6: 5 | M6: 1.1.5 Výstavba nových veřejných budov, které budou splňovat parametry pro pasivní nebo plusové budovy | N6: 2_5 | Q6: de minimis 717/2014 | R6: 5
D7: 1.6 Posilování ochrany a zachování přírody, biologické rozmanitosti a zelené infrastruktury, a to i v městských oblastech, a snižování všech forem znečištění | L7: 6 | M7: 1.2.1 Výstavba a rekonstrukce obnovitelných zdrojů energie pro veřejné budovy | N7: 3_1 | Q7: GBER článek 14
L8: 7 | M8: 1.2.2 Výstavba a rekonstrukce obnovitelných zdrojů energie pro zajištění dodávek systémové energie ve veřejném sektoru | N8: 3_2 | Q8: GBER ŽP článek 36
L9: 8 | M9: 1.2.3 Výměna nevyhovujících spalovacích zdrojů na tuhá paliva a pořizování domovních předávacích stanic | N9: 3_3 | Q9: GBER ŽP článek 38
C10: 8 | D10: =CHOOSE($C$1,$M$1,M2,M7,M10,M20,M25,M36) -> 1.6.1 Podpora přírodních stanovišť a druhů a péče o nejcennější části přírody a krajiny | L10: 9 | M10: 1.3.1 Podpora přírodě blízkých opatření v krajině a sídlech | N10: 4_1 | Q10: GBER ŽP článek 40
D11: =CHOOSE($C$1,$M$1,M3,M8,M11,M21,M26,M37) -> 1.6.2 Zprůchodnění migračních překážek pro živočichy | L11: 10 | M11: 1.3.2 Zpracování studií a plánů (studie systémů sídelní zeleně, územní studie krajiny, plán územního systému ekologické stability) | N11: 4_2 | Q11: GBER ŽP článek 41
D12: =CHOOSE($C$1,$M$1,M4,M9,M12,M22,M27,M38) -> 1.6.3 Modernizace a rozvoj záchranných stanic a záchranných center CITES pro ohrožené druhy živočichů | L12: 11 | M12: 1.3.3 Realizace protipovodňových opatření | N12: 4_3 | Q12: GBER ŽP článek 45 | R12: 11
D13: =CHOOSE($C$1,$M$1,M5,"irelevantní",M13,M23,M28,M39) -> 1.6.4 Náhrada nebo rekonstrukce stacionárních zdrojů znečišťování ovzduší včetně realizace dodatečných technologií a změny technologických postupů | L13: 12 | M13: 1.3.4 Realizace opatření ke zpomalení odtoku, pro vsak, retenci a akumulaci srážkové vody vč. jejího dalšího využití; realizace zelených střech; opatření na využití šedé vody; opatření pro řízenou dotaci podzemních vod | N13: 4_4 | Q13: GBER ŽP článek 46
D14: =CHOOSE($C$1,$M$1,M6,"irelevantní",M14,M24,M29,M40) -> 1.6.5 Pořízení a modernizace systémů pro posuzování a vyhodnocení úrovně znečištění ovzduší a souvisejících meteorologických aspektů a pořízení a modernizace systémů pro archivaci a zpracování údajů o znečišťování ovzduší | L14: 13 | M14: 1.3.5 Podpora preventivních opatření proti povodním a suchu, zejména budování, rozšíření, zkvalitnění a obnova monitorovacích, předpovědních, hlásných, výstražných a varovných systémů; zpracování digitálních povodňových plánů, zpracování analýzy odtokových poměrů | N14: 4_5 | Q14: GBER ŽP článek 47
D15: =CHOOSE($C$1,$M$1,"irelevantní","irelevantní",M15,"irelevantní",M30,M41) -> 1.6.6 Pořízení a náhrada monitorovacích systémů pro kontinuální měření emisí znečišťujících látek včetně pořízení on-line systémů k jejich prezentaci | I15: kurz euro Kč | L15: 14 | M15: 1.3.6 Podpora povodňové operativy, zvyšování povědomí obyvatel o povodňovém riziku, zvyšování resilience citlivých objektů před povodněmi | N15: 4_6 | Q15: GBER ŽP článek 49
D16: =CHOOSE($C$1,$M$1,"irelevantní","irelevantní",M16,"irelevantní",M31,M42) -> 1.6.7 Průzkum rozsahu znečištění horninového prostředí a rizik s ním spojených, včetně návrhu efektivního řešení | I16: 24.739 | L16: 15 | M16: 1.3.7 Monitoring a rebilance dlouhodobě využitelných zdrojů podzemních vod pro obce v krystaliniku Českého masivu | N16: 4_7 | Q16: GBER článek 53, kulturní infrastruktura | R16: 15
D17: =CHOOSE($C$1,$M$1,"irelevantní","irelevantní",M17,"irelevantní",M32,M43) -> 1.6.8 Odstranění rizik kontaminace ohrožující lidské zdraví, vodní zdroje nebo ekosystémy a rekultivace starých skládek | I17: https://ec.europa.eu/info/funding-tenders/procedures-guidelines-tenders/information-contractors-and-beneficiaries/exchange-rate-inforeuro_cs | L17: 16 | M17: 1.3.8 Obnova stability svahů, stabilizace a sanace extrémních svahových nestabilit vzniklých v důsledku přírodních jevů | N17: 4_8 | Q17: GBER článek 55, sportovní infrastruktura
D18: =CHOOSE($C$1,$M$1,"irelevantní","irelevantní",M18,"irelevantní",M33,"irelevantní") -> irelevantní | L18: 17 | M18: 1.3.9 Investice do modernizace vzdělávacích environmentálních center zaměřených na změnu klimatu | N18: 4_9 | Q18: GBER článek 56, lokální infrastruktura
D19: =CHOOSE($C$1,$M$1,"irelevantní","irelevantní",M19,"irelevantní",M34,"irelevantní") -> irelevantní | L19: 18 | M19: 1.3.10 Prevence a řízení antropogenních rizik | N19: 4_10 | Q19: SGEI Rozhodnutí Komise | R19: 18
D20: =CHOOSE($C$1,$M$1,"irelevantní","irelevantní","irelevantní","irelevantní",M35,"irelevantní") -> irelevantní | L20: 19 | M20: 1.4.1 Výstavba čistíren odpadních vod; dobudování a výstavba kanalizaci | N20: 5_1 | Q20: SGEI Nařízení Evropského parlamentu a Rady (ES) č. 1370/2007 – Doprava | R20: 19
L21: 20 | M21: 1.4.2 Intenzifikace čistíren odpadních vod za účelem zvýšeného odstraňování specifického znečištění | N21: 5_2 | Q21: Pokyny AGRI, Prevence škod způsobených zvláště chráněnými živočišnými druhy
L22: 21 | M22: 1.4.3 Opatření omezující vypouštění odpadních vod z odlehčení na kanalizaci (akumulační nádrže, retenční nádrže, chemické předčištění apod.) | N22: 5_3
B23: =IF(AND(C1=4,C10=1),9,IF(AND(C1=7,C10=1),35,IF(AND(C1=7,C10=2),36,0))) -> 0 | C23: 2 | D23: =IF($B$23=9,D31,IF($B$23=35,D36,IF($B$23=36,D41,"irelevantní"))) -> irelevantní | E23: 1 | F23: sanace SEZ | L23: 22 | M23: 1.4.4 Výstavba a modernizace vodovodních přivaděčů a vodovodních řadů; výstavba úpraven vody; výstavba, intenzifikace nebo revitalizace stávajících vodních zdrojů | N23: 5_4
B24: 2 | D24: =IF($B$23=9,D32,IF($B$23=35,D37,IF($B$23=36,D42,"irelevantní"))) -> irelevantní | F24: rekultivace skládek | L24: 23 | M24: 1.4.5 Intenzifikace úpraven pitné vody | N24: 5_5
D25: =IF($B$23=9,D33,IF($B$23=35,D38,"irelevantní")) -> irelevantní | L25: 24 | M25: 1.5.1 Kompostéry pro předcházení vzniku komunálních odpadů | N25: 6_1
D26: =IF($B$23=9,D34,IF($B$23=35,D39,"irelevantní")) -> irelevantní | L26: 25 | M26: 1.5.2 RE-USE centra pro opětovné použití výrobků včetně aktivit pro opravy a prodlužování životnosti výrobků, podpora prevence vzniku odpadu | N26: 6_2 | P26: 4 | Q26: DPH uznatelné = Nejsem plátce DPH
D27: =IF($B$23=9,D35,IF($B$23=35,D40,"irelevantní")) -> irelevantní | L27: 26 | M27: 1.5.3 Budování infrastruktury potravinových bank | N27: 6_3 | Q27: DPH neuznatelné = Jsem plátce DPH a mám nárok na odpočet DPH ve vztahu k aktivitám projektu
L28: 27 | M28: 1.5.4 Podpora prevence vzniku odpadů z jednorázového nádobí nebo jednorázových obalů | N28: 6_4 | Q28: DPH uznatelné = Jsem plátce DPH a nemám zákonný nárok na odpočet DPH ve vztahu k aktivitám projektu
L29: 28 | M29: 1.5.5 Výstavba a modernizace sběrných dvorů, doplnění a zefektivnění systému odděleného sběru/svozu zejména komunálních odpadů včetně podpory door-to-door systémů a zavádění systémů PAYT ("Pay-as-You-Throw") | N29: 6_5 | Q29: Vyber
D30: vyber Aktivitu | L30: 29 | M30: 1.5.6 Podpora třídících a dotřiďovacích systémů (včetně úpravy) pro separaci ostatních odpadů | N30: 6_6 | P30: =IF(KR!I23>10000000,"0,035",IF(KR!I23<3000000,",07",",05")) -> 0,035 | Q30: %PP | R30: 7% pod 3 mil
C31: 9_1 | D31: 1.3.1.1 Tvorba nových a obnova stávajících přírodě blízkých vodních prvků v krajině včetně sídel | L31: 30 | M31: 1.5.7 Budování zařízení pro úpravu a zpracování čistírenských odpadních kalů z čistíren odpadních vod včetně úpravy vyčištěných odpadních vod pro jejich opětovné využívání | N31: 6_7 | R31: 5% 3 až 10 mil
C32: 9_2 | D32: 1.3.1.2 Tvorba nových a obnova stávajících vegetačních prvků a struktur, včetně opatření proti vodní a větrné erozi | L32: 31 | M32: 1.5.8 Výstavba a modernizace zařízení pro materiálové využití odpadů | N32: 6_8 | P32: =IF(OR(C1=4,C1=7),P33,P30) -> 0,05 | R32: 3,5% nad 10 mil
D33: 1.3.1.3 Úprava lesních porostů směrem k přirozené struktuře a druhové skladbě za účelem posílení jejich stability | L33: 32 | M33: 1.5.9 Výstavba a modernizace zařízení pro energetické využití odpadů, včetně bioplynových stanic pro zpracování odpadů | N33: 6_9 | P33: =IF(KR!I23>10000000,"0,05",",07") -> 0,05 | R33: 7% do 10 mil
D34: 1.3.1.4 Zakládání a obnova veřejné sídelní zeleně | L34: 33 | M34: 1.5.10 Budování a modernizace zařízení pro chemickou recyklaci odpadů | N34: 6_10 | P34: SC 1.3, 1.6 | R34: 5% nad 10 mil
D35: 1.3.1.5 Odstranění či eliminace negativních funkcí odvodňovacích zařízení v krajině | L35: 34 | M35: 1.5.11 Budování a modernizace zařízení pro sběr a nakládání s nebezpečnými odpady | N35: 6_11 | P35: 1 | Q35: irelevantní
C36: 35_1 | D36: 1.6.1.1 Péče o přírodní stanoviště a druhy, opatření na podporu ohrožených druhů | L36: 35 | M36: 1.6.1 Podpora přírodních stanovišť a druhů a péče o nejcennější části přírody a krajiny | N36: 7_1 | Q36: Malý podnik
D37: 1.6.1.2 Péče o chráněná území (přírodní dědictví) | L37: 36 | M37: 1.6.2 Zprůchodnění migračních překážek pro živočichy | N37: 7_2 | Q37: Střední podnik
D38: 1.6.1.3 Omezení šíření invazních nepůvodních a expanzivních druhů | L38: 37 | M38: 1.6.3 Modernizace a rozvoj záchranných stanic a záchranných center CITES pro ohrožené druhy živočichů | N38: 7_3 | Q38: Velký podnik
D39: 1.6.1.4 Monitoring ekosystémů, stanovišť a druhů, sběr podkladů, zpracování koncepčních dokumentů pro péči o chráněná území, zajištění územní ochrany chráněných území (přírodního dědictví | L39: 38 | M39: 1.6.4 Náhrada nebo rekonstrukce stacionárních zdrojů znečišťování ovzduší včetně realizace dodatečných technologií a změny technologických postupů | N39: 7_4
D40: 1.6.1.5 Návštěvnická infrastruktura sloužící k usměrnění návštěvníků v chráněných územích a zvýšení povědomí o problematice ochrany přírody | L40: 39 | M40: 1.6.5 Pořízení a modernizace systémů pro posuzování a vyhodnocení úrovně znečištění ovzduší a souvisejících meteorologických aspektů a pořízení a modernizace systémů pro archivaci a zpracování údajů o znečišťování ovzduší | N40: 7_5 | P40: =CHOOSE(P26,KR!F27-KR!G27*(1+(KR!E27/100)),KR!D27-KR!G27,KR!F27-KR!G27*(1+(KR!E27/100))) -> #VALUE! | Q40: CZN PP VP | R40: =P40 -> #VALUE!
...

Sheet výstup
C3: Název žadatele: | D3: =KR!C5 -> 0
C4: Název projektu: | D4: =KR!C6 -> 0
C5: Specifický cíl: | D5: =CHOOSE(zdroj!C1,zdroj!D1,zdroj!D2,zdroj!D3,zdroj!D4,zdroj!D5,zdroj!D6,zdroj!D7) -> 1.6 Posilování ochrany a zachování přírody, biologické rozmanitosti a zelené infrastruktury, a to i v městských oblastech, a snižování všech forem znečištění
C6: Veřejná podpora: | D6: =CHOOSE(zdroj!P2,zdroj!Q2,zdroj!Q3,zdroj!Q4,zdroj!Q5,zdroj!Q6,zdroj!Q7,zdroj!Q8,zdroj!Q9,zdroj!Q10,zdroj!Q11,zdroj!Q12,zdroj!Q13,zdroj!Q14,zdroj!Q15,zdroj!Q16,zdroj!Q17,zdroj!Q18,zdroj!Q19,zdroj!Q20,zdroj!Q21) -> mimo Veřejnou podporu
C7: DPH uznatelnost: | D7: =CHOOSE(zdroj!P26,zdroj!Q26,zdroj!Q27,zdroj!Q28,zdroj!Q29) -> Vyber
C8: Velikost podniku: | D8: =CHOOSE(zdroj!P35,zdroj!Q35,zdroj!Q36,zdroj!Q37,zdroj!Q38) -> irelevantní
C9: Celkové náklady projektu | D9: =KR!$D$29 -> zadej výdaje/DPH
C10: Celkové způsobilé výdaje projeku | D10: =KR!D30 -> zadej výdaje/DPH
C11: Celkové nezpůsobilé výdaje projetku | D11: =KR!D31 -> zadej výdaje/DPH
C12: Opatření specifického cíle (hlavní) | D12: =KR!C51 -> 1.6.8 Odstranění rizik kontaminace ohrožující lidské zdraví, vodní zdroje nebo ekosystémy a rekultivace starých skládek
C13: Opatření #2 | D13: =KR!C52 -> vyber Opatření #2
C14: Opatření #3 | D14: =KR!C53 -> vyber Opatření #3
C15: Opatření #4 | D15: =KR!C54 -> vyber Opatření #4
C16: Opatření #5 | D16: =KR!C55 -> vyber Opatření #5
C17: Opatření #6 | D17: =KR!C56 -> vyber Opatření #6
C18: Opatření #7 | D18: =KR!C57 -> vyber Opatření #7
C19: Opatření #8 | D19: =KR!C58 -> vyber Opatření #8
C20: Opatření #9 | D20: =KR!C59 -> vyber Opatření #9
C21: Opatření #10 | D21: =KR!C60 -> vyber Opatření #10
C22: Opatření #11 | D22: =KR!C61 -> vyber Opatření #11
C23: Aktivita (hlavní) | D23: =IF(zdroj!E23=1,zdroj!F23,zdroj!F24) -> sanace SEZ
C24: Aktivita #2 | D24: =KR!C65 -> vyber Aktivitu #2
C25: Aktivita #3 | D25: =KR!C66 -> vyber Aktivitu #3
C26: Aktivita #4 | D26: =KR!C67 -> vyber Aktivitu #4
C27: Aktivita #5 | D27: =KR!C68 -> vyber Aktivitu #5
C28: Podaktivita (hlavní) | D28: =KR!C71 -> irelevantní
C29: Podaktivita #2 | D29: =KR!C72 -> vyber Podaktivitu #2
C30: Podaktivita #3 | D30: =KR!C73 -> vyber Podaktivitu #3
C31: Podaktivita #4 | D31: =KR!C74 -> vyber Podaktivitu #4
C32: ISKP Přímé inv. a neinv. náklady do limitu PS bez VP či VP s výpočtem paušálu (řádky 1.1.1.1 + 1.1.1.2) | D32: =KR!F41 -> zadej výdaje/DPH
C33: ISKP Přímé inv. a neinv. náklady nad limit PS bez VP či VP s výpočtem paušálu nebo Přímé inv. a neinv. náklady s VP bez výpočtu paušálu (řádky 1.1.3 a 1.1.4) | D33: =KR!F42 -> zadej výdaje/DPH
C34: ISKP Nezpůsobilé inv. a neinv. náklady bez ohledu na VP (řádky 1.2.5 a 1.2.6) | D34: =KR!F43 -> zadej výdaje/DPH
C35: Paušální sazba (bez VP či VP s výpočtem paušálu) | D35: =KR!I25 -> 0
C36: "Projektová příprava" dle skutečných nákladů s limitem dle PS pro VP | D36: =KR!I28 -> 0

Sheet Koeficient obce 2023
A1: Zdroj dat: https://csu.gov.cz/docs/107516/eab39014-0cbe-286f-46ae-d02abadcee8c/uap_obce.xlsx?version=1.2 | H1: Bodové hodnocení | K1: Celkové bodové hodnocení | L1: Celkový koeficient | M1: Celkový koeficient zaokrouhlený - Výsledná bonifikace za rozvojový potenciál regionu/obce (%)
A2: SO ORP | B2: Obec | C2: Kód obce | D2: Podíl nezaměstna- ných osob (%) 2023 | E2: Průměrný věk 2023 | F2: Průměrný roční počet dokončených bytů na 1000 obyvatel 2019–2023 | H2: Podíl nezaměstna- ných osob (%) 2023 | I2: Průměrný věk 2023 | J2: Průměrný roční počet dokončených bytů na 1000 obyvatel 2019–2023
A3: Praha | B3: Praha | C3: 554782 | D3: 2.744 | E3: 41.720663 | F3: 4.2844392 | H3: =VALUE(_xlfn.IFS(D3>4.05,"5",D3>=3.83,"4,5",D3>=3.6,"4",D3>=3.37,"3,5",D3>=3.14,"3",D3>=2.91,"2,5",D3>=2.68,"2",D3>=2.45,"1,5",D3>=2.22,"1",D3<2.22,"0,5")) -> 2 | I3: =VALUE(_xlfn.IFS(E3>43.62,"5",E3>=43.32,"4,5",E3>=43.1,"4",E3>=42.7,"3,5",E3>=42.39,"3",E3>=42.08,"2,5",E3>=41.77,"2",E3>=41.46,"1,5",E3>=41.15,"1",E3<41.15,"0,5")) -> 1.5 | J3: =VALUE(_xlfn.IFS(F3>4.53,"0,5",F3>=4.2,"1",F3>=3.86,"1,5",F3>=3.52,"2",F3>=3.18,"2,5",F3>=2.84,"3",F3>=2.5,"3,5",F3>=2.16,"4",F3>=1.82,"4,5",F3<1.82,"5")) -> 1 | K3: =SUM(H3:J3) -> 4.5 | L3: =(H3+I3+J3)/3 -> 1.5 | M3: =ROUNDDOWN(L3,2) -> 1.5
A4: Benešov | B4: Benešov | C4: 529303 | D4: 1.877 | E4: 43.496654 | F4: 2.5242149 | H4: =VALUE(_xlfn.IFS(D4>4.05,"5",D4>=3.83,"4,5",D4>=3.6,"4",D4>=3.37,"3,5",D4>=3.14,"3",D4>=2.91,"2,5",D4>=2.68,"2",D4>=2.45,"1,5",D4>=2.22,"1",D4<2.22,"0,5")) -> 0.5 | I4: =VALUE(_xlfn.IFS(E4>43.62,"5",E4>=43.32,"4,5",E4>=43.1,"4",E4>=42.7,"3,5",E4>=42.39,"3",E4>=42.08,"2,5",E4>=41.77,"2",E4>=41.46,"1,5",E4>=41.15,"1",E4<41.15,"0,5")) -> 4.5 | J4: =VALUE(_xlfn.IFS(F4>4.53,"0,5",F4>=4.2,"1",F4>=3.86,"1,5",F4>=3.52,"2",F4>=3.18,"2,5",F4>=2.84,"3",F4>=2.5,"3,5",F4>=2.16,"4",F4>=1.82,"4,5",F4<1.82,"5")) -> 3.5 | K4: =SUM(H4:J4) -> 8.5 | L4: =(H4+I4+J4)/3 -> 2.8333333 | M4: =ROUNDDOWN(L4,2) -> 2.83
A5: Benešov | B5: Bukovany | C5: 532924 | D5: 1.587 | E5: 41.006716 | F5: 7.3260073 | H5: =VALUE(_xlfn.IFS(D5>4.05,"5",D5>=3.83,"4,5",D5>=3.6,"4",D5>=3.37,"3,5",D5>=3.14,"3",D5>=2.91,"2,5",D5>=2.68,"2",D5>=2.45,"1,5",D5>=2.22,"1",D5<2.22,"0,5")) -> 0.5 | I5: =VALUE(_xlfn.IFS(E5>43.62,"5",E5>=43.32,"4,5",E5>=43.1,"4",E5>=42.7,"3,5",E5>=42.39,"3",E5>=42.08,"2,5",E5>=41.77,"2",E5>=41.46,"1,5",E5>=41.15,"1",E5<41.15,"0,5")) -> 0.5 | J5: =VALUE(_xlfn.IFS(F5>4.53,"0,5",F5>=4.2,"1",F5>=3.86,"1,5",F5>=3.52,"2",F5>=3.18,"2,5",F5>=2.84,"3",F5>=2.5,"3,5",F5>=2.16,"4",F5>=1.82,"4,5",F5<1.82,"5")) -> 0.5 | K5: =SUM(H5:J5) -> 1.5 | L5: =(H5+I5+J5)/3 -> 0.5 | M5: =ROUNDDOWN(L5,2) -> 0.5
A6: Benešov | B6: Bystřice | C6: 529451 | D6: 1.671 | E6: 42.049936 | F6: 5.3350405 | H6: =VALUE(_xlfn.IFS(D6>4.05,"5",D6>=3.83,"4,5",D6>=3.6,"4",D6>=3.37,"3,5",D6>=3.14,"3",D6>=2.91,"2,5",D6>=2.68,"2",D6>=2.45,"1,5",D6>=2.22,"1",D6<2.22,"0,5")) -> 0.5 | I6: =VALUE(_xlfn.IFS(E6>43.62,"5",E6>=43.32,"4,5",E6>=43.1,"4",E6>=42.7,"3,5",E6>=42.39,"3",E6>=42.08,"2,5",E6>=41.77,"2",E6>=41.46,"1,5",E6>=41.15,"1",E6<41.15,"0,5")) -> 2 | J6: =VALUE(_xlfn.IFS(F6>4.53,"0,5",F6>=4.2,"1",F6>=3.86,"1,5",F6>=3.52,"2",F6>=3.18,"2,5",F6>=2.84,"3",F6>=2.5,"3,5",F6>=2.16,"4",F6>=1.82,"4,5",F6<1.82,"5")) -> 0.5 | K6: =SUM(H6:J6) -> 3 | L6: =(H6+I6+J6)/3 -> 1 | M6: =ROUNDDOWN(L6,2) -> 1
A7: Benešov | B7: Čakov | C7: 529478 | D7: 0 | E7: 37.960938 | F7: 10.9375 | H7: =VALUE(_xlfn.IFS(D7>4.05,"5",D7>=3.83,"4,5",D7>=3.6,"4",D7>=3.37,"3,5",D7>=3.14,"3",D7>=2.91,"2,5",D7>=2.68,"2",D7>=2.45,"1,5",D7>=2.22,"1",D7<2.22,"0,5")) -> 0.5 | I7: =VALUE(_xlfn.IFS(E7>43.62,"5",E7>=43.32,"4,5",E7>=43.1,"4",E7>=42.7,"3,5",E7>=42.39,"3",E7>=42.08,"2,5",E7>=41.77,"2",E7>=41.46,"1,5",E7>=41.15,"1",E7<41.15,"0,5")) -> 0.5 | J7: =VALUE(_xlfn.IFS(F7>4.53,"0,5",F7>=4.2,"1",F7>=3.86,"1,5",F7>=3.52,"2",F7>=3.18,"2,5",F7>=2.84,"3",F7>=2.5,"3,5",F7>=2.16,"4",F7>=1.82,"4,5",F7<1.82,"5")) -> 0.5 | K7: =SUM(H7:J7) -> 1.5 | L7: =(H7+I7+J7)/3 -> 0.5 | M7: =ROUNDDOWN(L7,2) -> 0.5
A8: Benešov | B8: Čerčany | C8: 529516 | D8: 1.29 | E8: 41.476388 | F8: 5.7434588 | H8: =VALUE(_xlfn.IFS(D8>4.05,"5",D8>=3.83,"4,5",D8>=3.6,"4",D8>=3.37,"3,5",D8>=3.14,"3",D8>=2.91,"2,5",D8>=2.68,"2",D8>=2.45,"1,5",D8>=2.22,"1",D8<2.22,"0,5")) -> 0.5 | I8: =VALUE(_xlfn.IFS(E8>43.62,"5",E8>=43.32,"4,5",E8>=43.1,"4",E8>=42.7,"3,5",E8>=42.39,"3",E8>=42.08,"2,5",E8>=41.77,"2",E8>=41.46,"1,5",E8>=41.15,"1",E8<41.15,"0,5")) -> 1.5 | J8: =VALUE(_xlfn.IFS(F8>4.53,"0,5",F8>=4.2,"1",F8>=3.86,"1,5",F8>=3.52,"2",F8>=3.18,"2,5",F8>=2.84,"3",F8>=2.5,"3,5",F8>=2.16,"4",F8>=1.82,"4,5",F8<1.82,"5")) -> 0.5 | K8: =SUM(H8:J8) -> 2.5 | L8: =(H8+I8+J8)/3 -> 0.83333333 | M8: =ROUNDDOWN(L8,2) -> 0.83
A9: Benešov | B9: Český Šternberk | C9: 529541 | D9: 2.041 | E9: 42.625 | F9: 0 | H9: =VALUE(_xlfn.IFS(D9>4.05,"5",D9>=3.83,"4,5",D9>=3.6,"4",D9>=3.37,"3,5",D9>=3.14,"3",D9>=2.91,"2,5",D9>=2.68,"2",D9>=2.45,"1,5",D9>=2.22,"1",D9<2.22,"0,5")) -> 0.5 | I9: =VALUE(_xlfn.IFS(E9>43.62,"5",E9>=43.32,"4,5",E9>=43.1,"4",E9>=42.7,"3,5",E9>=42.39,"3",E9>=42.08,"2,5",E9>=41.77,"2",E9>=41.46,"1,5",E9>=41.15,"1",E9<41.15,"0,5")) -> 3 | J9: =VALUE(_xlfn.IFS(F9>4.53,"0,5",F9>=4.2,"1",F9>=3.86,"1,5",F9>=3.52,"2",F9>=3.18,"2,5",F9>=2.84,"3",F9>=2.5,"3,5",F9>=2.16,"4",F9>=1.82,"4,5",F9<1.82,"5")) -> 5 | K9: =SUM(H9:J9) -> 8.5 | L9: =(H9+I9+J9)/3 -> 2.8333333 | M9: =ROUNDDOWN(L9,2) -> 2.83
A10: Benešov | B10: Čtyřkoly | C10: 529567 | D10: 1.232 | E10: 41.599617 | F10: 6.1302682 | H10: =VALUE(_xlfn.IFS(D10>4.05,"5",D10>=3.83,"4,5",D10>=3.6,"4",D10>=3.37,"3,5",D10>=3.14,"3",D10>=2.91,"2,5",D10>=2.68,"2",D10>=2.45,"1,5",D10>=2.22,"1",D10<2.22,"0,5")) -> 0.5 | I10: =VALUE(_xlfn.IFS(E10>43.62,"5",E10>=43.32,"4,5",E10>=43.1,"4",E10>=42.7,"3,5",E10>=42.39,"3",E10>=42.08,"2,5",E10>=41.77,"2",E10>=41.46,"1,5",E10>=41.15,"1",E10<41.15,"0,5")) -> 1.5 | J10: =VALUE(_xlfn.IFS(F10>4.53,"0,5",F10>=4.2,"1",F10>=3.86,"1,5",F10>=3.52,"2",F10>=3.18,"2,5",F10>=2.84,"3",F10>=2.5,"3,5",F10>=2.16,"4",F10>=1.82,"4,5",F10<1.82,"5")) -> 0.5 | K10: =SUM(H10:J10) -> 2.5 | L10: =(H10+I10+J10)/3 -> 0.83333333 | M10: =ROUNDDOWN(L10,2) -> 0.83
A11: Benešov | B11: Divišov | C11: 529621 | D11: 0.91 | E11: 41.640331 | F11: 3.5359116 | H11: =VALUE(_xlfn.IFS(D11>4.05,"5",D11>=3.83,"4,5",D11>=3.6,"4",D11>=3.37,"3,5",D11>=3.14,"3",D11>=2.91,"2,5",D11>=2.68,"2",D11>=2.45,"1,5",D11>=2.22,"1",D11<2.22,"0,5")) -> 0.5 | I11: =VALUE(_xlfn.IFS(E11>43.62,"5",E11>=43.32,"4,5",E11>=43.1,"4",E11>=42.7,"3,5",E11>=42.39,"3",E11>=42.08,"2,5",E11>=41.77,"2",E11>=41.46,"1,5",E11>=41.15,"1",E11<41.15,"0,5")) -> 1.5 | J11: =VALUE(_xlfn.IFS(F11>4.53,"0,5",F11>=4.2,"1",F11>=3.86,"1,5",F11>=3.52,"2",F11>=3.18,"2,5",F11>=2.84,"3",F11>=2.5,"3,5",F11>=2.16,"4",F11>=1.82,"4,5",F11<1.82,"5")) -> 2 | K11: =SUM(H11:J11) -> 4 | L11: =(H11+I11+J11)/3 -> 1.3333333 | M11: =ROUNDDOWN(L11,2) -> 1.33
A12: Benešov | B12: Drahňovice | C12: 532151 | D12: 0 | E12: 37.543478 | F12: 8.6956522 | H12: =VALUE(_xlfn.IFS(D12>4.05,"5",D12>=3.83,"4,5",D12>=3.6,"4",D12>=3.37,"3,5",D12>=3.14,"3",D12>=2.91,"2,5",D12>=2.68,"2",D12>=2.45,"1,5",D12>=2.22,"1",D12<2.22,"0,5")) -> 0.5 | I12: =VALUE(_xlfn.IFS(E12>43.62,"5",E12>=43.32,"4,5",E12>=43.1,"4",E12>=42.7,"3,5",E12>=42.39,"3",E12>=42.08,"2,5",E12>=41.77,"2",E12>=41.46,"1,5",E12>=41.15,"1",E12<41.15,"0,5")) -> 0.5 | J12: =VALUE(_xlfn.IFS(F12>4.53,"0,5",F12>=4.2,"1",F12>=3.86,"1,5",F12>=3.52,"2",F12>=3.18,"2,5",F12>=2.84,"3",F12>=2.5,"3,5",F12>=2.16,"4",F12>=1.82,"4,5",F12<1.82,"5")) -> 0.5 | K12: =SUM(H12:J12) -> 1.5 | L12: =(H12+I12+J12)/3 -> 0.5 | M12: =ROUNDDOWN(L12,2) -> 0.5
A13: Benešov | B13: Hvězdonice | C13: 529745 | D13: 1.887 | E13: 42.702346 | F13: 4.1055718 | H13: =VALUE(_xlfn.IFS(D13>4.05,"5",D13>=3.83,"4,5",D13>=3.6,"4",D13>=3.37,"3,5",D13>=3.14,"3",D13>=2.91,"2,5",D13>=2.68,"2",D13>=2.45,"1,5",D13>=2.22,"1",D13<2.22,"0,5")) -> 0.5 | I13: =VALUE(_xlfn.IFS(E13>43.62,"5",E13>=43.32,"4,5",E13>=43.1,"4",E13>=42.7,"3,5",E13>=42.39,"3",E13>=42.08,"2,5",E13>=41.77,"2",E13>=41.46,"1,5",E13>=41.15,"1",E13<41.15,"0,5")) -> 3.5 | J13: =VALUE(_xlfn.IFS(F13>4.53,"0,5",F13>=4.2,"1",F13>=3.86,"1,5",F13>=3.52,"2",F13>=3.18,"2,5",F13>=2.84,"3",F13>=2.5,"3,5",F13>=2.16,"4",F13>=1.82,"4,5",F13<1.82,"5")) -> 1.5 | K13: =SUM(H13:J13) -> 5.5 | L13: =(H13+I13+J13)/3 -> 1.8333333 | M13: =ROUNDDOWN(L13,2) -> 1.83
A14: Benešov | B14: Chářovice | C14: 532886 | D14: 1.504 | E14: 37.50905 | F14: 1.8099548 | H14: =VALUE(_xlfn.IFS(D14>4.05,"5",D14>=3.83,"4,5",D14>=3.6,"4",D14>=3.37,"3,5",D14>=3.14,"3",D14>=2.91,"2,5",D14>=2.68,"2",D14>=2.45,"1,5",D14>=2.22,"1",D14<2.22,"0,5")) -> 0.5 | I14: =VALUE(_xlfn.IFS(E14>43.62,"5",E14>=43.32,"4,5",E14>=43.1,"4",E14>=42.7,"3,5",E14>=42.39,"3",E14>=42.08,"2,5",E14>=41.77,"2",E14>=41.46,"1,5",E14>=41.15,"1",E14<41.15,"0,5")) -> 0.5 | J14: =VALUE(_xlfn.IFS(F14>4.53,"0,5",F14>=4.2,"1",F14>=3.86,"1,5",F14>=3.52,"2",F14>=3.18,"2,5",F14>=2.84,"3",F14>=2.5,"3,5",F14>=2.16,"4",F14>=1.82,"4,5",F14<1.82,"5")) -> 5 | K14: =SUM(H14:J14) -> 6 | L14: =(H14+I14+J14)/3 -> 2 | M14: =ROUNDDOWN(L14,2) -> 2
... A1253: Český Krumlov | B1253: Bohdalovice | C1253: 536253 | D1253: 7.576 | E1253: 43.203072 | F1253: 2.0477816 | H1253: =VALUE(_xlfn.IFS(D1253>4.05,"5",D1253>=3.83,"4,5",D1253>=3.6,"4",D1253>=3.37,"3,5",D1253>=3.14,"3",D1253>=2.91,"2,5",D1253>=2.68,"2",D1253>=2.45,"1,5",D1253>=2.22,"1",D1253<2.22,"0,5")) -> 5 | I1253: =VALUE(_xlfn.IFS(E1253>43.62,"5",E1253>=43.32,"4,5",E1253>=43.1,"4",E1253>=42.7,"3,5",E1253>=42.39,"3",E1253>=42.08,"2,5",E1253>=41.77,"2",E1253>=41.46,"1,5",E1253>=41.15,"1",E1253<41.15,"0,5")) -> 4 | J1253: =VALUE(_xlfn.IFS(F1253>4.53,"0,5",F1253>=4.2,"1",F1253>=3.86,"1,5",F1253>=3.52,"2",F1253>=3.18,"2,5",F1253>=2.84,"3",F1253>=2.5,"3,5",F1253>=2.16,"4",F1253>=1.82,"4,5",F1253<1.82,"5")) -> 4.5 | K1253: =SUM(H1253:J1253) -> 13.5 | L1253: =(H1253+I1253+J1253)/3 -> 4.5 | M1253: =ROUNDDOWN(L1253,2) -> 4.5
A1254: Český Krumlov | B1254: Boletice | C1254: 545422 | D1254: 0 | E1254: - | F1254: 0 | H1254: =VALUE(_xlfn.IFS(D1254>4.05,"5",D1254>=3.83,"4,5",D1254>=3.6,"4",D1254>=3.37,"3,5",D1254>=3.14,"3",D1254>=2.91,"2,5",D1254>=2.68,"2",D1254>=2.45,"1,5",D1254>=2.22,"1",D1254<2.22,"0,5")) -> 5 | I1254: =VALUE(_xlfn.IFS(E1254>43.62,"5",E1254>=43.32,"4,5",E1254>=43.1,"4",E1254>=42.7,"3,5",E1254>=42.39,"3",E1254>=42.08,"2,5",E1254>=41.77,"2",E1254>=41.46,"1,5",E1254>=41.15,"1",E1254<41.15,"0,5")) -> 5 | J1254: =VALUE(_xlfn.IFS(F1254>4.53,"0,5",F1254>=4.2,"1",F1254>=3.86,"1,5",F1254>=3.52,"2",F1254>=3.18,"2,5",F1254>=2.84,"3",F1254>=2.5,"3,5",F1254>=2.16,"4",F1254>=1.82,"4,5",F1254<1.82,"5")) -> 5 | K1254: =SUM(H1254:J1254) -> 15 | L1254: =(H1254+I1254+J1254)/3 -> 5 | M1254: =ROUNDDOWN(L1254,2) -> 5
A1255: Český Krumlov | B1255: Brloh | C1255: 545431 | D1255: 1.926 | E1255: 42.447955 | F1255: 1.8587361 | H1255: =VALUE(_xlfn.IFS(D1255>4.05,"5",D1255>=3.83,"4,5",D1255>=3.6,"4",D1255>=3.37,"3,5",D1255>=3.14,"3",D1255>=2.91,"2,5",D1255>=2.68,"2",D1255>=2.45,"1,5",D1255>=2.22,"1",D1255<2.22,"0,5")) -> 0.5 | I1255: =VALUE(_xlfn.IFS(E1255>43.62,"5",E1255>=43.32,"4,5",E1255>=43.1,"4",E1255>=42.7,"3,5",E1255>=42.39,"3",E1255>=42.08,"2,5",E1255>=41.77,"2",E1255>=41.46,"1,5",E1255>=41.15,"1",E1255<41.15,"0,5")) -> 3 | J1255: =VALUE(_xlfn.IFS(F1255>4.53,"0,5",F1255>=4.2,"1",F1255>=3.86,"1,5",F1255>=3.52,"2",F1255>=3.18,"2,5",F1255>=2.84,"3",F1255>=2.5,"3,5",F1255>=2.16,"4",F1255>=1.82,"4,5",F1255<1.82,"5")) -> 4.5 | K1255: =SUM(H1255:J1255) -> 8 | L1255: =(H1255+I1255+J1255)/3 -> 2.6666667 | M1255: =ROUNDDOWN(L1255,2) -> 2.66
A1256: Český Krumlov | B1256: Černá v Pošumaví | C1256: 545457 | D1256: 6.18 | E1256: 42.12924 | F1256: 25.02924 | H1256: =VALUE(_xlfn.IFS(D1256>4.05,"5",D1256>=3.83,"4,5",D1256>=3.6,"4",D1256>=3.37,"3,5",D1256>=3.14,"3",D1256>=2.91,"2,5",D1256>=2.68,"2",D1256>=2.45,"1,5",D1256>=2.22,"1",D1256<2.22,"0,5")) -> 5 | I1256: =VALUE(_xlfn.IFS(E1256>43.62,"5",E1256>=43.32,"4,5",E1256>=43.1,"4",E1256>=42.7,"3,5",E1256>=42.39,"3",E1256>=42.08,"2,5",E1256>=41.77,"2",E1256>=41.46,"1,5",E1256>=41.15,"1",E1256<41.15,"0,5")) -> 2.5 | J1256: =VALUE(_xlfn.IFS(F1256>4.53,"0,5",F1256>=4.2,"1",F1256>=3.86,"1,5",F1256>=3.52,"2",F1256>=3.18,"2,5",F1256>=2.84,"3",F1256>=2.5,"3,5",F1256>=2.16,"4",F1256>=1.82,"4,5",F1256<1.82,"5")) -> 0.5 | K1256: =SUM(H1256:J1256) -> 8 | L1256: =(H1256+I1256+J1256)/3 -> 2.6666667 | M1256: =ROUNDDOWN(L1256,2) -> 2.66
A1257: Český Krumlov | B1257: Český Krumlov | C1257: 545392 | D1257: 4.572 | E1257: 44.202719 | F1257: 0.98887515 | H1257: =VALUE(_xlfn.IFS(D1257>4.05,"5",D1257>=3.83,"4,5",D1257>=3.6,"4",D1257>=3.37,"3,5",D1257>=3.14,"3",D1257>=2.91,"2,5",D1257>=2.68,"2",D1257>=2.45,"1,5",D1257>=2.22,"1",D1257<2.22,"0,5")) -> 5 | I1257: =VALUE(_xlfn.IFS(E1257>43.62,"5",E1257>=43.32,"4,5",E1257>=43.1,"4",E1257>=42.7,"3,5",E1257>=42.39,"3",E1257>=42.08,"2,5",E1257>=41.77,"2",E1257>=41.46,"1,5",E1257>=41.15,"1",E1257<41.15,"0,5")) -> 5 | J1257: =VALUE(_xlfn.IFS(F1257>4.53,"0,5",F1257>=4.2,"1",F1257>=3.86,"1,5",F1257>=3.52,"2",F1257>=3.18,"2,5",F1257>=2.84,"3",F1257>=2.5,"3,5",F1257>=2.16,"4",F1257>=1.82,"4,5",F1257<1.82,"5")) -> 5 | K1257: =SUM(H1257:J1257) -> 15 | L1257: =(H1257+I1257+J1257)/3 -> 5 | M1257: =ROUNDDOWN(L1257,2) -> 5
A1258: Český Krumlov | B1258: Dolní Třebonín | C1258: 545473 | D1258: 2.626 | E1258: 40.691111 | F1258: 1.7777778 | H1258: =VALUE(_xlfn.IFS(D1258>4.05,"5",D1258>=3.83,"4,5",D1258>=3.6,"4",D1258>=3.37,"3,5",D1258>=3.14,"3",D1258>=2.91,"2,5",D1258>=2.68,"2",D1258>=2.45,"1,5",D1258>=2.22,"1",D1258<2.22,"0,5")) -> 1.5 | I1258: =VALUE(_xlfn.IFS(E1258>43.62,"5",E1258>=43.32,"4,5",E1258>=43.1,"4",E1258>=42.7,"3,5",E1258>=42.39,"3",E1258>=42.08,"2,5",E1258>=41.77,"2",E1258>=41.46,"1,5",E1258>=41.15,"1",E1258<41.15,"0,5")) -> 0.5 | J1258: =VALUE(_xlfn.IFS(F1258>4.53,"0,5",F1258>=4.2,"1",F1258>=3.86,"1,5",F1258>=3.52,"2",F1258>=3.18,"2,5",F1258>=2.84,"3",F1258>=2.5,"3,5",F1258>=2.16,"4",F1258>=1.82,"4,5",F1258<1.82,"5")) -> 5 | K1258: =SUM(H1258:J1258) -> 7 | L1258: =(H1258+I1258+J1258)/3 -> 2.3333333 | M1258: =ROUNDDOWN(L1258,2) -> 2.33
A1259: Český Krumlov | B1259: Frymburk | C1259: 545481 | D1259: 5.984 | E1259: 43.312183 | F1259: 11.892676 | H1259: =VALUE(_xlfn.IFS(D1259>4.05,"5",D1259>=3.83,"4,5",D1259>=3.6,"4",D1259>=3.37,"3,5",D1259>=3.14,"3",D1259>=2.91,"2,5",D1259>=2.68,"2",D1259>=2.45,"1,5",D1259>=2.22,"1",D1259<2.22,"0,5")) -> 5 | I1259: =VALUE(_xlfn.IFS(E1259>43.62,"5",E1259>=43.32,"4,5",E1259>=43.1,"4",E1259>=42.7,"3,5",E1259>=42.39,"3",E1259>=42.08,"2,5",E1259>=41.77,"2",E1259>=41.46,"1,5",E1259>=41.15,"1",E1259<41.15,"0,5")) -> 4 | J1259: =VALUE(_xlfn.IFS(F1259>4.53,"0,5",F1259>=4.2,"1",F1259>=3.86,"1,5",F1259>=3.52,"2",F1259>=3.18,"2,5",F1259>=2.84,"3",F1259>=2.5,"3,5",F1259>=2.16,"4",F1259>=1.82,"4,5",F1259<1.82,"5")) -> 0.5 | K1259: =SUM(H1259:J1259) -> 9.5 | L1259: =(H1259+I1259+J1259)/3 -> 3.1666667 | M1259: =ROUNDDOWN(L1259,2) -> 3.16
A1260: Český Krumlov | B1260: Holubov | C1260: 545490 | D1260: 2.464 | E1260: 43.262078 | F1260: 2.1877849 | H1260: =VALUE(_xlfn.IFS(D1260>4.05,"5",D1260>=3.83,"4,5",D1260>=3.6,"4",D1260>=3.37,"3,5",D1260>=3.14,"3",D1260>=2.91,"2,5",D1260>=2.68,"2",D1260>=2.45,"1,5",D1260>=2.22,"1",D1260<2.22,"0,5")) -> 1.5 | I1260: =VALUE(_xlfn.IFS(E1260>43.62,"5",E1260>=43.32,"4,5",E1260>=43.1,"4",E1260>=42.7,"3,5",E1260>=42.39,"3",E1260>=42.08,"2,5",E1260>=41.77,"2",E1260>=41.46,"1,5",E1260>=41.15,"1",E1260<41.15,"0,5")) -> 4 | J1260: =VALUE(_xlfn.IFS(F1260>4.53,"0,5",F1260>=4.2,"1",F1260>=3.86,"1,5",F1260>=3.52,"2",F1260>=3.18,"2,5",F1260>=2.84,"3",F1260>=2.5,"3,5",F1260>=2.16,"4",F1260>=1.82,"4,5",F1260<1.82,"5")) -> 4 | K1260: =SUM(H1260:J1260) -> 9.5 | L1260: =(H1260+I1260+J1260)/3 -> 3.1666667 | M1260: =ROUNDDOWN(L1260,2) -> 3.16
A1261: Český Krumlov | B1261: Horní Planá | C1261: 545511 | D1261: 5.35 | E1261: 47.05202 | F1261: 7.6767677 | H1261: =VALUE(_xlfn.IFS(D1261>4.05,"5",D1261>=3.83,"4,5",D1261>=3.6,"4",D1261>=3.37,"3,5",D1261>=3.14,"3",D1261>=2.91,"2,5",D1261>=2.68,"2",D1261>=2.45,"1,5",D1261>=2.22,"1",D1261<2.22,"0,5")) -> 5 | I1261: =VALUE(_xlfn.IFS(E1261>43.62,"5",E1261>=43.32,"4,5",E1261>=43.1,"4",E1261>=42.7,"3,5",E1261>=42.39,"3",E1261>=42.08,"2,5",E1261>=41.77,"2",E1261>=41.46,"1,5",E1261>=41.15,"1",E1261<41.15,"0,5")) -> 5 | J1261: =VALUE(_xlfn.IFS(F1261>4.53,"0,5",F1261>=4.2,"1",F1261>=3.86,"1,5",F1261>=3.52,"2",F1261>=3.18,"2,5",F1261>=2.84,"3",F1261>=2.5,"3,5",F1261>=2.16,"4",F1261>=1.82,"4,5",F1261<1.82,"5")) -> 0.5 | K1261: =SUM(H1261:J1261) -> 10.5 | L1261: =(H1261+I1261+J1261)/3 -> 3.5 | M1261: =ROUNDDOWN(L1261,2) -> 3.5
A1262: Český Krumlov | B1262: Hořice na Šumavě | C1262: 545520 | D1262: 7.56 | E1262: 40.350498 | F1262: 2.8792913 | H1262: =VALUE(_xlfn.IFS(D1262>4.05,"5",D1262>=3.83,"4,5",D1262>=3.6,"4",D1262>=3.37,"3,5",D1262>=3.14,"3",D1262>=2.91,"2,5",D1262>=2.68,"2",D1262>=2.45,"1,5",D1262>=2.22,"1",D1262<2.22,"0,5")) -> 5 | I1262: =VALUE(_xlfn.IFS(E1262>43.62,"5",E1262>=43.32,"4,5",E1262>=43.1,"4",E1262>=42.7,"3,5",E1262>=42.39,"3",E1262>=42.08,"2,5",E1262>=41.77,"2",E1262>=41.46,"1,5",E1262>=41.15,"1",E1262<41.15,"0,5")) -> 0.5 | J1262: =VALUE(_xlfn.IFS(F1262>4.53,"0,5",F1262>=4.2,"1",F1262>=3.86,"1,5",F1262>=3.52,"2",F1262>=3.18,"2,5",F1262>=2.84,"3",F1262>=2.5,"3,5",F1262>=2.16,"4",F1262>=1.82,"4,5",F1262<1.82,"5")) -> 3 | K1262: =SUM(H1262:J1262) -> 8.5 | L1262: =(H1262+I1262+J1262)/3 -> 2.8333333 | M1262: =ROUNDDOWN(L1262,2) -> 2.83
A1263: Český Krumlov | B1263: Chlumec | C1263: 536229 | D1263: 1.493 | E1263: 38.277778 | F1263: 12.962963 | H1263: =VALUE(_xlfn.IFS(D1263>4.05,"5",D1263>=3.83,"4,5",D1263>=3.6,"4",D1263>=3.37,"3,5",D1263>=3.14,"3",D1263>=2.91,"2,5",D1263>=2.68,"2",D1263>=2.45,"1,5",D1263>=2.22,"1",D1263<2.22,"0,5")) -> 0.5 | I1263: =VALUE(_xlfn.IFS(E1263>43.62,"5",E1263>=43.32,"4,5",E1263>=43.1,"4",E1263>=42.7,"3,5",E1263>=42.39,"3",E1263>=42.08,"2,5",E1263>=41.77,"2",E1263>=41.46,"1,5",E1263>=41.15,"1",E1263<41.15,"0,5")) -> 0.5 | J1263: =VALUE(_xlfn.IFS(F1263>4.53,"0,5",F1263>=4.2,"1",F1263>=3.86,"1,5",F1263>=3.52,"2",F1263>=3.18,"2,5",F1263>=2.84,"3",F1263>=2.5,"3,5",F1263>=2.16,"4",F1263>=1.82,"4,5",F1263<1.82,"5")) -> 0.5 | K1263: =SUM(H1263:J1263) -> 1.5 | L1263: =(H1263+I1263+J1263)/3 -> 0.5 | M1263: =ROUNDDOWN(L1263,2) -> 0.5
A1264: Český Krumlov | B1264: Chvalšiny | C1264: 545546 | D1264: 4.976 | E1264: 42.113291 | F1264: 2.7221777 | H1264: =VALUE(_xlfn.IFS(D1264>4.05,"5",D1264>=3.83,"4,5",D1264>=3.6,"4",D1264>=3.37,"3,5",D1264>=3.14,"3",D1264>=2.91,"2,5",D1264>=2.68,"2",D1264>=2.45,"1,5",D1264>=2.22,"1",D1264<2.22,"0,5")) -> 5 | I1264: =VALUE(_xlfn.IFS(E1264>43.62,"5",E1264>=43.32,"4,5",E1264>=43.1,"4",E1264>=42.7,"3,5",E1264>=42.39,"3",E1264>=42.08,"2,5",E1264>=41.77,"2",E1264>=41.46,"1,5",E1264>=41.15,"1",E1264<41.15,"0,5")) -> 2.5 | J1264: =VALUE(_xlfn.IFS(F1264>4.53,"0,5",F1264>=4.2,"1",F1264>=3.86,"1,5",F1264>=3.52,"2",F1264>=3.18,"2,5",F1264>=2.84,"3",F1264>=2.5,"3,5",F1264>=2.16,"4",F1264>=1.82,"4,5",F1264<1.82,"5")) -> 3.5 | K1264: =SUM(H1264:J1264) -> 11 | L1264: =(H1264+I1264+J1264)/3 -> 3.6666667 | M1264: =ROUNDDOWN(L1264,2) -> 3.66
A1265: Český Krumlov | B1265: Kájov | C1265: 545554 | D1265: 2.862 | E1265: 40.087174 | F1265: 3.3066132 | H1265: =VALUE(_xlfn.IFS(D1265>4.05,"5",D1265>=3.83,"4,5",D1265>=3.6,"4",D1265>=3.37,"3,5",D1265>=3.14,"3",D1265>=2.91,"2,5",D1265>=2.68,"2",D1265>=2.45,"1,5",D1265>=2.22,"1",D1265<2.22,"0,5")) -> 2 | I1265: =VALUE(_xlfn.IFS(E1265>43.62,"5",E1265>=43.32,"4,5",E1265>=43.1,"4",E1265>=42.7,"3,5",E1265>=42.39,"3",E1265>=42.08,"2,5",E1265>=41.77,"2",E1265>=41.46,"1,5",E1265>=41.15,"1",E1265<41.15,"0,5")) -> 0.5 | J1265: =VALUE(_xlfn.IFS(F1265>4.53,"0,5",F1265>=4.2,"1",F1265>=3.86,"1,5",F1265>=3.52,"2",F1265>=3.18,"2,5",F1265>=2.84,"3",F1265>=2.5,"3,5",F1265>=2.16,"4",F1265>=1.82,"4,5",F1265<1.82,"5")) -> 2.5 | K1265: =SUM(H1265:J1265) -> 5 | L1265: =(H1265+I1265+J1265)/3 -> 1.6666667 | M1265: =ROUNDDOWN(L1265,2) -> 1.66
A1266: Český Krumlov | B1266: Křemže | C1266: 545571 | D1266: 2.466 | E1266: 41.388003 | F1266: 2.7251579 | H1266: =VALUE(_xlfn.IFS(D1266>4.05,"5",D1266>=3.83,"4,5",D1266>=3.6,"4",D1266>=3.37,"3,5",D1266>=3.14,"3",D1266>=2.91,"2,5",D1266>=2.68,"2",D1266>=2.45,"1,5",D1266>=2.22,"1",D1266<2.22,"0,5")) -> 1.5 | I1266: =VALUE(_xlfn.IFS(E1266>43.62,"5",E1266>=43.32,"4,5",E1266>=43.1,"4",E1266>=42.7,"3,5",E1266>=42.39,"3",E1266>=42.08,"2,5",E1266>=41.77,"2",E1266>=41.46,"1,5",E1266>=41.15,"1",E1266<41.15,"0,5")) -> 1 | J1266: =VALUE(_xlfn.IFS(F1266>4.53,"0,5",F1266>=4.2,"1",F1266>=3.86,"1,5",F1266>=3.52,"2",F1266>=3.18,"2,5",F1266>=2.84,"3",F1266>=2.5,"3,5",F1266>=2.16,"4",F1266>=1.82,"4,5",F1266<1.82,"5")) -> 3.5 | K1266: =SUM(H1266:J1266) -> 6 | L1266: =(H1266+I1266+J1266)/3 -> 2 | M1266: =ROUNDDOWN(L1266,2) -> 2
... A2309: Karlovy Vary | B2309: Hory | C2309: 551651 | D2309: 2.963 | E2309: 38.112756 | F2309: 33.257403 | H2309: =VALUE(_xlfn.IFS(D2309>4.05,"5",D2309>=3.83,"4,5",D2309>=3.6,"4",D2309>=3.37,"3,5",D2309>=3.14,"3",D2309>=2.91,"2,5",D2309>=2.68,"2",D2309>=2.45,"1,5",D2309>=2.22,"1",D2309<2.22,"0,5")) -> 2.5 | I2309: =VALUE(_xlfn.IFS(E2309>43.62,"5",E2309>=43.32,"4,5",E2309>=43.1,"4",E2309>=42.7,"3,5",E2309>=42.39,"3",E2309>=42.08,"2,5",E2309>=41.77,"2",E2309>=41.46,"1,5",E2309>=41.15,"1",E2309<41.15,"0,5")) -> 0.5 | J2309: =VALUE(_xlfn.IFS(F2309>4.53,"0,5",F2309>=4.2,"1",F2309>=3.86,"1,5",F2309>=3.52,"2",F2309>=3.18,"2,5",F2309>=2.84,"3",F2309>=2.5,"3,5",F2309>=2.16,"4",F2309>=1.82,"4,5",F2309<1.82,"5")) -> 0.5 | K2309: =SUM(H2309:J2309) -> 3.5 | L2309: =(H2309+I2309+J2309)/3 -> 1.1666667 | M2309: =ROUNDDOWN(L2309,2) -> 1.16
A2310: Karlovy Vary | B2310: Hradiště | C2310: 555177 | D2310: 0 | E2310: - | F2310: 0 | H2310: =VALUE(_xlfn.IFS(D2310>4.05,"5",D2310>=3.83,"4,5",D2310>=3.6,"4",D2310>=3.37,"3,5",D2310>=3.14,"3",D2310>=2.91,"2,5",D2310>=2.68,"2",D2310>=2.45,"1,5",D2310>=2.22,"1",D2310<2.22,"0,5")) -> 5 | I2310: =VALUE(_xlfn.IFS(E2310>43.62,"5",E2310>=43.32,"4,5",E2310>=43.1,"4",E2310>=42.7,"3,5",E2310>=42.39,"3",E2310>=42.08,"2,5",E2310>=41.77,"2",E2310>=41.46,"1,5",E2310>=41.15,"1",E2310<41.15,"0,5")) -> 5 | J2310: =VALUE(_xlfn.IFS(F2310>4.53,"0,5",F2310>=4.2,"1",F2310>=3.86,"1,5",F2310>=3.52,"2",F2310>=3.18,"2,5",F2310>=2.84,"3",F2310>=2.5,"3,5",F2310>=2.16,"4",F2310>=1.82,"4,5",F2310<1.82,"5")) -> 5 | K2310: =SUM(H2310:J2310) -> 15 | L2310: =(H2310+I2310+J2310)/3 -> 5 | M2310: =ROUNDDOWN(L2310,2) -> 5
A2311: Karlovy Vary | B2311: Chodov | C2311: 578011 | D2311: 4.225 | E2311: 41.685484 | F2311: 3.2258065 | H2311: =VALUE(_xlfn.IFS(D2311>4.05,"5",D2311>=3.83,"4,5",D2311>=3.6,"4",D2311>=3.37,"3,5",D2311>=3.14,"3",D2311>=2.91,"2,5",D2311>=2.68,"2",D2311>=2.45,"1,5",D2311>=2.22,"1",D2311<2.22,"0,5")) -> 5 | I2311: =VALUE(_xlfn.IFS(E2311>43.62,"5",E2311>=43.32,"4,5",E2311>=43.1,"4",E2311>=42.7,"3,5",E2311>=42.39,"3",E2311>=42.08,"2,5",E2311>=41.77,"2",E2311>=41.46,"1,5",E2311>=41.15,"1",E2311<41.15,"0,5")) -> 1.5 | J2311: =VALUE(_xlfn.IFS(F2311>4.53,"0,5",F2311>=4.2,"1",F2311>=3.86,"1,5",F2311>=3.52,"2",F2311>=3.18,"2,5",F2311>=2.84,"3",F2311>=2.5,"3,5",F2311>=2.16,"4",F2311>=1.82,"4,5",F2311<1.82,"5")) -> 2.5 | K2311: =SUM(H2311:J2311) -> 9 | L2311: =(H2311+I2311+J2311)/3 -> 3 | M2311: =ROUNDDOWN(L2311,2) -> 3
A2312: Karlovy Vary | B2312: Chyše | C2312: 555207 | D2312: 4.19 | E2312: 42.716582 | F2312: 2.0304569 | H2312: =VALUE(_xlfn.IFS(D2312>4.05,"5",D2312>=3.83,"4,5",D2312>=3.6,"4",D2312>=3.37,"3,5",D2312>=3.14,"3",D2312>=2.91,"2,5",D2312>=2.68,"2",D2312>=2.45,"1,5",D2312>=2.22,"1",D2312<2.22,"0,5")) -> 5 | I2312: =VALUE(_xlfn.IFS(E2312>43.62,"5",E2312>=43.32,"4,5",E2312>=43.1,"4",E2312>=42.7,"3,5",E2312>=42.39,"3",E2312>=42.08,"2,5",E2312>=41.77,"2",E2312>=41.46,"1,5",E2312>=41.15,"1",E2312<41.15,"0,5")) -> 3.5 | J2312: =VALUE(_xlfn.IFS(F2312>4.53,"0,5",F2312>=4.2,"1",F2312>=3.86,"1,5",F2312>=3.52,"2",F2312>=3.18,"2,5",F2312>=2.84,"3",F2312>=2.5,"3,5",F2312>=2.16,"4",F2312>=1.82,"4,5",F2312<1.82,"5")) -> 4.5 | K2312: =SUM(H2312:J2312) -> 13 | L2312: =(H2312+I2312+J2312)/3 -> 4.3333333 | M2312: =ROUNDDOWN(L2312,2) -> 4.33
A2313: Karlovy Vary | B2313: Jenišov | C2313: 537926 | D2313: 3.125 | E2313: 40.836761 | F2313: 8.2262211 | H2313: =VALUE(_xlfn.IFS(D2313>4.05,"5",D2313>=3.83,"4,5",D2313>=3.6,"4",D2313>=3.37,"3,5",D2313>=3.14,"3",D2313>=2.91,"2,5",D2313>=2.68,"2",D2313>=2.45,"1,5",D2313>=2.22,"1",D2313<2.22,"0,5")) -> 2.5 | I2313: =VALUE(_xlfn.IFS(E2313>43.62,"5",E2313>=43.32,"4,5",E2313>=43.1,"4",E2313>=42.7,"3,5",E2313>=42.39,"3",E2313>=42.08,"2,5",E2313>=41.77,"2",E2313>=41.46,"1,5",E2313>=41.15,"1",E2313<41.15,"0,5")) -> 0.5 | J2313: =VALUE(_xlfn.IFS(F2313>4.53,"0,5",F2313>=4.2,"1",F2313>=3.86,"1,5",F2313>=3.52,"2",F2313>=3.18,"2,5",F2313>=2.84,"3",F2313>=2.5,"3,5",F2313>=2.16,"4",F2313>=1.82,"4,5",F2313<1.82,"5")) -> 0.5 | K2313: =SUM(H2313:J2313) -> 3.5 | L2313: =(H2313+I2313+J2313)/3 -> 1.1666667 | M2313: =ROUNDDOWN(L2313,2) -> 1.16
A2314: Karlovy Vary | B2314: Karlovy Vary | C2314: 554961 | D2314: 4.914 | E2314: 45.417391 | F2314: 2.3017851 | H2314: =VALUE(_xlfn.IFS(D2314>4.05,"5",D2314>=3.83,"4,5",D2314>=3.6,"4",D2314>=3.37,"3,5",D2314>=3.14,"3",D2314>=2.91,"2,5",D2314>=2.68,"2",D2314>=2.45,"1,5",D2314>=2.22,"1",D2314<2.22,"0,5")) -> 5 | I2314: =VALUE(_xlfn.IFS(E2314>43.62,"5",E2314>=43.32,"4,5",E2314>=43.1,"4",E2314>=42.7,"3,5",E2314>=42.39,"3",E2314>=42.08,"2,5",E2314>=41.77,"2",E2314>=41.46,"1,5",E2314>=41.15,"1",E2314<41.15,"0,5")) -> 5 | J2314: =VALUE(_xlfn.IFS(F2314>4.53,"0,5",F2314>=4.2,"1",F2314>=3.86,"1,5",F2314>=3.52,"2",F2314>=3.18,"2,5",F2314>=2.84,"3",F2314>=2.5,"3,5",F2314>=2.16,"4",F2314>=1.82,"4,5",F2314<1.82,"5")) -> 4 | K2314: =SUM(H2314:J2314) -> 14 | L2314: =(H2314+I2314+J2314)/3 -> 4.6666667 | M2314: =ROUNDDOWN(L2314,2) -> 4.66
A2315: Karlovy Vary | B2315: Kolová | C2315: 555258 | D2315: 2.174 | E2315: 41.210843 | F2315: 5.4764513 | H2315: =VALUE(_xlfn.IFS(D2315>4.05,"5",D2315>=3.83,"4,5",D2315>=3.6,"4",D2315>=3.37,"3,5",D2315>=3.14,"3",D2315>=2.91,"2,5",D2315>=2.68,"2",D2315>=2.45,"1,5",D2315>=2.22,"1",D2315<2.22,"0,5")) -> 0.5 | I2315: =VALUE(_xlfn.IFS(E2315>43.62,"5",E2315>=43.32,"4,5",E2315>=43.1,"4",E2315>=42.7,"3,5",E2315>=42.39,"3",E2315>=42.08,"2,5",E2315>=41.77,"2",E2315>=41.46,"1,5",E2315>=41.15,"1",E2315<41.15,"0,5")) -> 1 | J2315: =VALUE(_xlfn.IFS(F2315>4.53,"0,5",F2315>=4.2,"1",F2315>=3.86,"1,5",F2315>=3.52,"2",F2315>=3.18,"2,5",F2315>=2.84,"3",F2315>=2.5,"3,5",F2315>=2.16,"4",F2315>=1.82,"4,5",F2315<1.82,"5")) -> 0.5 | K2315: =SUM(H2315:J2315) -> 2 | L2315: =(H2315+I2315+J2315)/3 -> 0.66666667 | M2315: =ROUNDDOWN(L2315,2) -> 0.66
A2316: Karlovy Vary | B2316: Krásné Údolí | C2316: 555304 | D2316: 4.58 | E2316: 42.782051 | F2316: 0 | H2316: =VALUE(_xlfn.IFS(D2316>4.05,"5",D2316>=3.83,"4,5",D2316>=3.6,"4",D2316>=3.37,"3,5",D2316>=3.14,"3",D2316>=2.91,"2,5",D2316>=2.68,"2",D2316>=2.45,"1,5",D2316>=2.22,"1",D2316<2.22,"0,5")) -> 5 | I2316: =VALUE(_xlfn.IFS(E2316>43.62,"5",E2316>=43.32,"4,5",E2316>=43.1,"4",E2316>=42.7,"3,5",E2316>=42.39,"3",E2316>=42.08,"2,5",E2316>=41.77,"2",E2316>=41.46,"1,5",E2316>=41.15,"1",E2316<41.15,"0,5")) -> 3.5 | J2316: =VALUE(_xlfn.IFS(F2316>4.53,"0,5",F2316>=4.2,"1",F2316>=3.86,"1,5",F2316>=3.52,"2",F2316>=3.18,"2,5",F2316>=2.84,"3",F2316>=2.5,"3,5",F2316>=2.16,"4",F2316>=1.82,"4,5",F2316<1.82,"5")) -> 5 | K2316: =SUM(H2316:J2316) -> 13.5 | L2316: =(H2316+I2316+J2316)/3 -> 4.5 | M2316: =ROUNDDOWN(L2316,2) -> 4.5
A2317: Karlovy Vary | B2317: Kyselka | C2317: 555347 | D2317: 1.714 | E2317: 43.323877 | F2317: 0.70921986 | H2317: =VALUE(_xlfn.IFS(D2317>4.05,"5",D2317>=3.83,"4,5",D2317>=3.6,"4",D2317>=3.37,"3,5",D2317>=3.14,"3",D2317>=2.91,"2,5",D2317>=2.68,"2",D2317>=2.45,"1,5",D2317>=2.22,"1",D2317<2.22,"0,5")) -> 0.5 | I2317: =VALUE(_xlfn.IFS(E2317>43.62,"5",E2317>=43.32,"4,5",E2317>=43.1,"4",E2317>=42.7,"3,5",E2317>=42.39,"3",E2317>=42.08,"2,5",E2317>=41.77,"2",E2317>=41.46,"1,5",E2317>=41.15,"1",E2317<41.15,"0,5")) -> 4.5 | J2317: =VALUE(_xlfn.IFS(F2317>4.53,"0,5",F2317>=4.2,"1",F2317>=3.86,"1,5",F2317>=3.52,"2",F2317>=3.18,"2,5",F2317>=2.84,"3",F2317>=2.5,"3,5",F2317>=2.16,"4",F2317>=1.82,"4,5",F2317<1.82,"5")) -> 5 | K2317: =SUM(H2317:J2317) -> 10 | L2317: =(H2317+I2317+J2317)/3 -> 3.3333333 | M2317: =ROUNDDOWN(L2317,2) -> 3.33
A2318: Karlovy Vary | B2318: Mírová | C2318: 537934 | D2318: 1.389 | E2318: 41.807918 | F2318: 6.4516129 | H2318: =VALUE(_xlfn.IFS(D2318>4.05,"5",D2318>=3.83,"4,5",D2318>=3.6,"4",D2318>=3.37,"3,5",D2318>=3.14,"3",D2318>=2.91,"2,5",D2318>=2.68,"2",D2318>=2.45,"1,5",D2318>=2.22,"1",D2318<2.22,"0,5")) -> 0.5 | I2318: =VALUE(_xlfn.IFS(E2318>43.62,"5",E2318>=43.32,"4,5",E2318>=43.1,"4",E2318>=42.7,"3,5",E2318>=42.39,"3",E2318>=42.08,"2,5",E2318>=41.77,"2",E2318>=41.46,"1,5",E2318>=41.15,"1",E2318<41.15,"0,5")) -> 2 | J2318: =VALUE(_xlfn.IFS(F2318>4.53,"0,5",F2318>=4.2,"1",F2318>=3.86,"1,5",F2318>=3.52,"2",F2318>=3.18,"2,5",F2318>=2.84,"3",F2318>=2.5,"3,5",F2318>=2.16,"4",F2318>=1.82,"4,5",F2318<1.82,"5")) -> 0.5 | K2318: =SUM(H2318:J2318) -> 3 | L2318: =(H2318+I2318+J2318)/3 -> 1 | M2318: =ROUNDDOWN(L2318,2) -> 1
A2319: Karlovy Vary | B2319: Nejdek | C2319: 555380 | D2319: 3.875 | E2319: 43.832049 | F2319: 1.2331407 | H2319: =VALUE(_xlfn.IFS(D2319>4.05,"5",D2319>=3.83,"4,5",D2319>=3.6,"4",D2319>=3.37,"3,5",D2319>=3.14,"3",D2319>=2.91,"2,5",D2319>=2.68,"2",D2319>=2.45,"1,5",D2319>=2.22,"1",D2319<2.22,"0,5")) -> 4.5 | I2319: =VALUE(_xlfn.IFS(E2319>43.62,"5",E2319>=43.32,"4,5",E2319>=43.1,"4",E2319>=42.7,"3,5",E2319>=42.39,"3",E2319>=42.08,"2,5",E2319>=41.77,"2",E2319>=41.46,"1,5",E2319>=41.15,"1",E2319<41.15,"0,5")) -> 5 | J2319: =VALUE(_xlfn.IFS(F2319>4.53,"0,5",F2319>=4.2,"1",F2319>=3.86,"1,5",F2319>=3.52,"2",F2319>=3.18,"2,5",F2319>=2.84,"3",F2319>=2.5,"3,5",F2319>=2.16,"4",F2319>=1.82,"4,5",F2319<1.82,"5")) -> 5 | K2319: =SUM(H2319:J2319) -> 14.5 | L2319: =(H2319+I2319+J2319)/3 -> 4.8333333 | M2319: =ROUNDDOWN(L2319,2) -> 4.83
A2320: Karlovy Vary | B2320: Nová Role | C2320: 555398 | D2320: 2.942 | E2320: 44.274034 | F2320: 3.9114043 | H2320: =VALUE(_xlfn.IFS(D2320>4.05,"5",D2320>=3.83,"4,5",D2320>=3.6,"4",D2320>=3.37,"3,5",D2320>=3.14,"3",D2320>=2.91,"2,5",D2320>=2.68,"2",D2320>=2.45,"1,5",D2320>=2.22,"1",D2320<2.22,"0,5")) -> 2.5 | I2320: =VALUE(_xlfn.IFS(E2320>43.62,"5",E2320>=43.32,"4,5",E2320>=43.1,"4",E2320>=42.7,"3,5",E2320>=42.39,"3",E2320>=42.08,"2,5",E2320>=41.77,"2",E2320>=41.46,"1,5",E2320>=41.15,"1",E2320<41.15,"0,5")) -> 5 | J2320: =VALUE(_xlfn.IFS(F2320>4.53,"0,5",F2320>=4.2,"1",F2320>=3.86,"1,5",F2320>=3.52,"2",F2320>=3.18,"2,5",F2320>=2.84,"3",F2320>=2.5,"3,5",F2320>=2.16,"4",F2320>=1.82,"4,5",F2320<1.82,"5")) -> 1.5 | K2320: =SUM(H2320:J2320) -> 9 | L2320: =(H2320+I2320+J2320)/3 -> 3 | M2320: =ROUNDDOWN(L2320,2) -> 3
...
